BEGIN:VCALENDAR
VERSION:2.0
PRODID:icalendar-ruby
CALSCALE:GREGORIAN
METHOD:PUBLISH
BEGIN:VEVENT
DTSTAMP:20260424T233548Z
UID:12-3566270@louisburgumc.org
DTSTART:20260927T133000Z
DTEND:20260927T142000Z
CLASS:PUBLIC
CREATED:20260424T170636
DESCRIPTION:
LAST-MODIFIED:20260424T170636
LOCATION:Louisburg United Methodist Church\, 249 N Metcalf\, Louisburg\, KS
SUMMARY:8:30 Worship Service
URL;VALUE=URI:https://www.louisburgumc.com/events/8-30-worship-service/2026
 -09-27
END:VEVENT
END:VCALENDAR
