BEGIN:VCALENDAR
VERSION:2.0
PRODID:icalendar-ruby
CALSCALE:GREGORIAN
METHOD:PUBLISH
BEGIN:VEVENT
DTSTAMP:20260425T012511Z
UID:12-3568275@louisburgumc.org
DTSTART:20261004T133000Z
DTEND:20261004T142000Z
CLASS:PUBLIC
CREATED:20260424T195436
DESCRIPTION:
LAST-MODIFIED:20260424T195436
LOCATION:Louisburg United Methodist Church\, 249 N Metcalf\, Louisburg\, KS
SUMMARY:8:30 Worship Service
URL;VALUE=URI:https://www.louisburgumc.com/events/8-30-worship-service/2026
 -10-04
END:VEVENT
END:VCALENDAR
