BEGIN:VCALENDAR
VERSION:2.0
PRODID:icalendar-ruby
CALSCALE:GREGORIAN
METHOD:PUBLISH
BEGIN:VEVENT
DTSTAMP:20260422T213434Z
UID:13-3540505@louisburgumc.org
DTSTART:20260920T153000Z
DTEND:20260920T162500Z
CLASS:PUBLIC
CREATED:20260422T143151
DESCRIPTION:
LAST-MODIFIED:20260422T143151
LOCATION:Louisburg United Methodist Church\, 249 N Metcalf\, Louisburg\, KS
SUMMARY:Worship Service
URL;VALUE=URI:https://www.louisburgumc.com/events/worship-service--13/2026-
 09-20
END:VEVENT
END:VCALENDAR
