BEGIN:VCALENDAR
VERSION:2.0
PRODID:icalendar-ruby
CALSCALE:GREGORIAN
METHOD:PUBLISH
BEGIN:VEVENT
DTSTAMP:20260422T230837Z
UID:13-3542509@louisburgumc.org
DTSTART:20260927T153000Z
DTEND:20260927T162500Z
CLASS:PUBLIC
CREATED:20260422T172603
DESCRIPTION:
LAST-MODIFIED:20260422T172603
LOCATION:Louisburg United Methodist Church\, 249 N Metcalf\, Louisburg\, KS
SUMMARY:Worship Service
URL;VALUE=URI:https://www.louisburgumc.com/events/worship-service--13/2026-
 09-27
END:VEVENT
END:VCALENDAR
