BEGIN:VCALENDAR
VERSION:2.0
PRODID:icalendar-ruby
CALSCALE:GREGORIAN
METHOD:PUBLISH
BEGIN:VEVENT
DTSTAMP:20260423T020621Z
UID:13-3544515@louisburgumc.org
DTSTART:20261011T153000Z
DTEND:20261011T162500Z
CLASS:PUBLIC
CREATED:20260422T201758
DESCRIPTION:
LAST-MODIFIED:20260422T201758
LOCATION:Louisburg United Methodist Church\, 249 N Metcalf\, Louisburg\, KS
SUMMARY:Worship Service
URL;VALUE=URI:https://www.louisburgumc.com/events/worship-service--13/2026-
 10-11
END:VEVENT
END:VCALENDAR
