BEGIN:VCALENDAR
VERSION:2.0
PRODID:icalendar-ruby
CALSCALE:GREGORIAN
METHOD:PUBLISH
BEGIN:VEVENT
DTSTAMP:20260423T061801Z
UID:13-3544518@louisburgumc.org
DTSTART:20261101T163000Z
DTEND:20261101T172500Z
CLASS:PUBLIC
CREATED:20260422T201758
DESCRIPTION:
LAST-MODIFIED:20260422T201758
LOCATION:Louisburg United Methodist Church\, 249 N Metcalf\, Louisburg\, KS
SUMMARY:Worship Service
URL;VALUE=URI:https://www.louisburgumc.com/events/worship-service--13/2026-
 11-01
END:VEVENT
END:VCALENDAR
